BEGIN:VCALENDAR
VERSION:2.0
PRODID:-//Kingman Healthcare Center - ECPv6.15.18//NONSGML v1.0//EN
CALSCALE:GREGORIAN
METHOD:PUBLISH
X-WR-CALNAME:Kingman Healthcare Center
X-ORIGINAL-URL:https://www.kingmanhc.com
X-WR-CALDESC:Events for Kingman Healthcare Center
REFRESH-INTERVAL;VALUE=DURATION:PT1H
X-Robots-Tag:noindex
X-PUBLISHED-TTL:PT1H
BEGIN:VTIMEZONE
TZID:America/Chicago
BEGIN:DAYLIGHT
TZOFFSETFROM:-0600
TZOFFSETTO:-0500
TZNAME:CDT
DTSTART:20250309T080000
END:DAYLIGHT
BEGIN:STANDARD
TZOFFSETFROM:-0500
TZOFFSETTO:-0600
TZNAME:CST
DTSTART:20251102T070000
END:STANDARD
BEGIN:DAYLIGHT
TZOFFSETFROM:-0600
TZOFFSETTO:-0500
TZNAME:CDT
DTSTART:20260308T080000
END:DAYLIGHT
BEGIN:STANDARD
TZOFFSETFROM:-0500
TZOFFSETTO:-0600
TZNAME:CST
DTSTART:20261101T070000
END:STANDARD
BEGIN:DAYLIGHT
TZOFFSETFROM:-0600
TZOFFSETTO:-0500
TZNAME:CDT
DTSTART:20270314T080000
END:DAYLIGHT
BEGIN:STANDARD
TZOFFSETFROM:-0500
TZOFFSETTO:-0600
TZNAME:CST
DTSTART:20271107T070000
END:STANDARD
END:VTIMEZONE
BEGIN:VEVENT
DTSTART;TZID=America/Chicago:20260611T180000
DTEND;TZID=America/Chicago:20260611T203000
DTSTAMP:20260423T124138
CREATED:20260422T204220Z
LAST-MODIFIED:20260422T213759Z
UID:1802-1781200800-1781209800@www.kingmanhc.com
SUMMARY:QPR Training at the Hangar (Kingman\, KS)
DESCRIPTION:QUESTION\, PERSUADE\, REFER \nSuicide prevention training \nThe people we care about might be dealing with thoughts of suicide without us realizing it. This training will help participants recognize suicide warning signs and how to intervene. \nJoin us for a free dinner and QPR training session to learn about: \n\nWarning Signs: Identify indicators of distress\nAvailable Resources: Know where to seek help\nEssential Skills: Learn how to support loved ones\n\nIf you reside in or around Kingman County\, and love or care for someone\, this training is for you. \nThis training is intended for mature adults 18+. \nBeth Akins\, LSCSW with Horizons Mental Health will provide the training. \nQuestion\, Persuade\, Refer is an evidence based training please visit qprinstitute.com/about-qpr for more information.
URL:https://www.kingmanhc.com/event/qpr-training-at-the-hangar-kingman-ks/
LOCATION:The Hangar\, 126 N. Main St.\, Kingman\, KS\, 67068\, United States
END:VEVENT
END:VCALENDAR